BEGIN:VCALENDAR
VERSION:2.0
PRODID:-//VorOrt Dessau - ECPv6.15.20//NONSGML v1.0//EN
CALSCALE:GREGORIAN
METHOD:PUBLISH
X-ORIGINAL-URL:https://www.dessau-vorort.de
X-WR-CALDESC:Events for VorOrt Dessau
REFRESH-INTERVAL;VALUE=DURATION:PT1H
X-Robots-Tag:noindex
X-PUBLISHED-TTL:PT1H
BEGIN:VTIMEZONE
TZID:Europe/Berlin
BEGIN:DAYLIGHT
TZOFFSETFROM:+0100
TZOFFSETTO:+0200
TZNAME:CEST
DTSTART:20250330T010000
END:DAYLIGHT
BEGIN:STANDARD
TZOFFSETFROM:+0200
TZOFFSETTO:+0100
TZNAME:CET
DTSTART:20251026T010000
END:STANDARD
BEGIN:DAYLIGHT
TZOFFSETFROM:+0100
TZOFFSETTO:+0200
TZNAME:CEST
DTSTART:20260329T010000
END:DAYLIGHT
BEGIN:STANDARD
TZOFFSETFROM:+0200
TZOFFSETTO:+0100
TZNAME:CET
DTSTART:20261025T010000
END:STANDARD
BEGIN:DAYLIGHT
TZOFFSETFROM:+0100
TZOFFSETTO:+0200
TZNAME:CEST
DTSTART:20270328T010000
END:DAYLIGHT
BEGIN:STANDARD
TZOFFSETFROM:+0200
TZOFFSETTO:+0100
TZNAME:CET
DTSTART:20271031T010000
END:STANDARD
END:VTIMEZONE
BEGIN:VEVENT
DTSTART;TZID=Europe/Berlin:20260411T110000
DTEND;TZID=Europe/Berlin:20260411T170000
DTSTAMP:20260421T212959
CREATED:20260310T180438Z
LAST-MODIFIED:20260310T180555Z
UID:6279-1775905200-1775926800@www.dessau-vorort.de
SUMMARY:Frühlingsmarkt
DESCRIPTION:Frühlingsmarkt im VorOrt Haus🌼 Freut euch auf liebevoll handgemachte Produkte\, ob Keramik\, Textil\, Holz oder Kunstdruck. Neben dem Schlendern könnt ihr auch schmausen – Kaffee\, Kuchen und frisch gekochtes warmes Essen gibt es auch 🥕 Wir sagen nur der Bärlauch ist dann auch gerade reif …  \nDu möchtest einen Stand auf dem Früglingsmarkt anbieten oder generell mithelfen? Schreib uns eine DM oder melde dich bei cutyeah@gmx.de
URL:https://www.dessau-vorort.de/event/fruhlingsmarkt/
END:VEVENT
END:VCALENDAR